{"text_format":"1","workbook":"xlsx","n_sheets":7,"sheets":["11.1 PAINEL","ESTOQUE","CLIENTES","Exemplo 11.2","Exemplo 11.3","Exemplo 11.4","Problema 11.1"],"not_rendered":{"charts":0,"images":1,"macros":1,"external_links":0,"defined_names":4,"comments":0,"pivot_tables":0},"unopened":[],"bounds":{"document_bytes":16777216,"sheet_cells":100000,"rows_first":2000,"rows_last":500,"rows_between":2000,"halvings":0,"cell_chars":16384,"cell_head_chars":4096},"cells_cut":0,"cells_raw":0,"read":"whole","date_system":"1900"}

{"sheet":"11.1 PAINEL","index":0,"n_rows":2,"n_cols":8,"rows_kept":2,"cut":false,"hidden":false,"merged":[[1,2,2,6],[1,7,2,12]]}
[]
[null,null,"ANON",null,null,null,null,"Revendedora: Kelly"]

{"sheet":"ESTOQUE","index":1,"n_rows":145,"n_cols":6,"rows_kept":145,"cut":false,"hidden":false,"merged":[]}
["CÓDIGO","DESCRIÇÃO","QUANTIDADE INICIAL","TOTAL DE COMPRAS","TOTAL DE VENDAS","QUANTIDADE EM ESTOQUE"]
["B1","Baton 1",100,26,120,{"$f":"C2+D2-E2","v":6}]
["B2","Baton 2",100,18,106,{"$f":"C3+D3-E3","v":12}]
["B3","Baton 3",100,39,132,7]
["C1","Creme 1",100,22,118,4]
["C2","Creme 2",100,25,90,35]
["M1","Maquiagem 1",100,48,140,8]
[null,null,null,null,{"$f":"IF(A8<>\"\",SUMIF(#REF!,A8,#REF!),\"\")","v":""}]
[null,null,null,null,{"$f":"IF(A9<>\"\",SUMIF(#REF!,A9,#REF!),\"\")","v":""}]
[null,null,null,null,{"$f":"IF(A10<>\"\",SUMIF(#REF!,A10,#REF!),\"\")","v":""}]
[null,null,null,null,{"$f":"IF(A11<>\"\",SUMIF(#REF!,A11,#REF!),\"\")","v":""}]
[null,null,null,null,{"$f":"IF(A12<>\"\",SUMIF(#REF!,A12,#REF!),\"\")","v":""}]
[null,null,null,null,{"$f":"IF(A13<>\"\",SUMIF(#REF!,A13,#REF!),\"\")","v":""}]
[null,null,null,null,{"$f":"IF(A14<>\"\",SUMIF(#REF!,A14,#REF!),\"\")","v":""}]
[null,null,null,null,{"$f":"IF(A15<>\"\",SUMIF(#REF!,A15,#REF!),\"\")","v":""}]
[null,null,null,null,{"$f":"IF(A16<>\"\",SUMIF(#REF!,A16,#REF!),\"\")","v":""}]
[null,null,null,null,{"$f":"IF(A17<>\"\",SUMIF(#REF!,A17,#REF!),\"\")","v":""}]
[null,null,null,null,{"$f":"IF(A18<>\"\",SUMIF(#REF!,A18,#REF!),\"\")","v":""},{"$f":"IF(A18<>\"\",C18+D18-E18,\"\")","v":""}]
[null,null,null,null,{"$f":"IF(A19<>\"\",SUMIF(#REF!,A19,#REF!),\"\")","v":""},""]
[null,null,null,null,{"$f":"IF(A20<>\"\",SUMIF(#REF!,A20,#REF!),\"\")","v":""},""]
[null,null,null,null,{"$f":"IF(A21<>\"\",SUMIF(#REF!,A21,#REF!),\"\")","v":""},""]
[null,null,null,null,{"$f":"IF(A22<>\"\",SUMIF(#REF!,A22,#REF!),\"\")","v":""},""]
[null,null,null,null,{"$f":"IF(A23<>\"\",SUMIF(#REF!,A23,#REF!),\"\")","v":""},""]
[null,null,null,null,{"$f":"IF(A24<>\"\",SUMIF(#REF!,A24,#REF!),\"\")","v":""},""]
[null,null,null,null,{"$f":"IF(A25<>\"\",SUMIF(#REF!,A25,#REF!),\"\")","v":""},""]
[null,null,null,null,{"$f":"IF(A26<>\"\",SUMIF(#REF!,A26,#REF!),\"\")","v":""},""]
[null,null,null,null,{"$f":"IF(A27<>\"\",SUMIF(#REF!,A27,#REF!),\"\")","v":""},""]
[null,null,null,null,{"$f":"IF(A28<>\"\",SUMIF(#REF!,A28,#REF!),\"\")","v":""},""]
[null,null,null,null,{"$f":"IF(A29<>\"\",SUMIF(#REF!,A29,#REF!),\"\")","v":""},""]
[null,null,null,null,{"$f":"IF(A30<>\"\",SUMIF(#REF!,A30,#REF!),\"\")","v":""},""]
[null,null,null,null,{"$f":"IF(A31<>\"\",SUMIF(#REF!,A31,#REF!),\"\")","v":""},""]
[null,null,null,null,{"$f":"IF(A32<>\"\",SUMIF(#REF!,A32,#REF!),\"\")","v":""},""]
[null,null,null,null,{"$f":"IF(A33<>\"\",SUMIF(#REF!,A33,#REF!),\"\")","v":""},""]
[null,null,null,null,{"$f":"IF(A34<>\"\",SUMIF(#REF!,A34,#REF!),\"\")","v":""},""]
[null,null,null,null,{"$f":"IF(A35<>\"\",SUMIF(#REF!,A35,#REF!),\"\")","v":""},""]
[null,null,null,null,{"$f":"IF(A36<>\"\",SUMIF(#REF!,A36,#REF!),\"\")","v":""},""]
[null,null,null,null,{"$f":"IF(A37<>\"\",SUMIF(#REF!,A37,#REF!),\"\")","v":""},""]
[null,null,null,null,{"$f":"IF(A38<>\"\",SUMIF(#REF!,A38,#REF!),\"\")","v":""},""]
[null,null,null,null,{"$f":"IF(A39<>\"\",SUMIF(#REF!,A39,#REF!),\"\")","v":""},""]
[null,null,null,null,{"$f":"IF(A40<>\"\",SUMIF(#REF!,A40,#REF!),\"\")","v":""},""]
[null,null,null,null,{"$f":"IF(A41<>\"\",SUMIF(#REF!,A41,#REF!),\"\")","v":""},""]
[null,null,null,null,{"$f":"IF(A42<>\"\",SUMIF(#REF!,A42,#REF!),\"\")","v":""},""]
[null,null,null,null,{"$f":"IF(A43<>\"\",SUMIF(#REF!,A43,#REF!),\"\")","v":""},""]
[null,null,null,null,{"$f":"IF(A44<>\"\",SUMIF(#REF!,A44,#REF!),\"\")","v":""},""]
[null,null,null,null,{"$f":"IF(A45<>\"\",SUMIF(#REF!,A45,#REF!),\"\")","v":""},""]
[null,null,null,null,{"$f":"IF(A46<>\"\",SUMIF(#REF!,A46,#REF!),\"\")","v":""},""]
[null,null,null,null,{"$f":"IF(A47<>\"\",SUMIF(#REF!,A47,#REF!),\"\")","v":""},""]
[null,null,null,null,{"$f":"IF(A48<>\"\",SUMIF(#REF!,A48,#REF!),\"\")","v":""},""]
[null,null,null,null,{"$f":"IF(A49<>\"\",SUMIF(#REF!,A49,#REF!),\"\")","v":""},""]
[null,null,null,null,{"$f":"IF(A50<>\"\",SUMIF(#REF!,A50,#REF!),\"\")","v":""},{"$f":"IF(A50<>\"\",C50+D50-E50,\"\")","v":""}]
[null,null,null,null,{"$f":"IF(A51<>\"\",SUMIF(#REF!,A51,#REF!),\"\")","v":""},""]
[null,null,null,null,{"$f":"IF(A52<>\"\",SUMIF(#REF!,A52,#REF!),\"\")","v":""},""]
[null,null,null,null,{"$f":"IF(A53<>\"\",SUMIF(#REF!,A53,#REF!),\"\")","v":""},""]
[null,null,null,null,{"$f":"IF(A54<>\"\",SUMIF(#REF!,A54,#REF!),\"\")","v":""},""]
[null,null,null,null,{"$f":"IF(A55<>\"\",SUMIF(#REF!,A55,#REF!),\"\")","v":""},""]
[null,null,null,null,{"$f":"IF(A56<>\"\",SUMIF(#REF!,A56,#REF!),\"\")","v":""},""]
[null,null,null,null,{"$f":"IF(A57<>\"\",SUMIF(#REF!,A57,#REF!),\"\")","v":""},""]
[null,null,null,null,{"$f":"IF(A58<>\"\",SUMIF(#REF!,A58,#REF!),\"\")","v":""},""]
[null,null,null,null,{"$f":"IF(A59<>\"\",SUMIF(#REF!,A59,#REF!),\"\")","v":""},""]
[null,null,null,null,{"$f":"IF(A60<>\"\",SUMIF(#REF!,A60,#REF!),\"\")","v":""},""]
[null,null,null,null,{"$f":"IF(A61<>\"\",SUMIF(#REF!,A61,#REF!),\"\")","v":""},""]
[null,null,null,null,{"$f":"IF(A62<>\"\",SUMIF(#REF!,A62,#REF!),\"\")","v":""},""]
[null,null,null,null,{"$f":"IF(A63<>\"\",SUMIF(#REF!,A63,#REF!),\"\")","v":""},""]
[null,null,null,null,{"$f":"IF(A64<>\"\",SUMIF(#REF!,A64,#REF!),\"\")","v":""},""]
[null,null,null,null,{"$f":"IF(A65<>\"\",SUMIF(#REF!,A65,#REF!),\"\")","v":""},""]
[null,null,null,null,{"$f":"IF(A66<>\"\",SUMIF(#REF!,A66,#REF!),\"\")","v":""},""]
[null,null,null,null,{"$f":"IF(A67<>\"\",SUMIF(#REF!,A67,#REF!),\"\")","v":""},""]
[null,null,null,null,{"$f":"IF(A68<>\"\",SUMIF(#REF!,A68,#REF!),\"\")","v":""},""]
[null,null,null,null,{"$f":"IF(A69<>\"\",SUMIF(#REF!,A69,#REF!),\"\")","v":""},""]
[null,null,null,null,{"$f":"IF(A70<>\"\",SUMIF(#REF!,A70,#REF!),\"\")","v":""},""]
[null,null,null,null,{"$f":"IF(A71<>\"\",SUMIF(#REF!,A71,#REF!),\"\")","v":""},""]
[null,null,null,null,{"$f":"IF(A72<>\"\",SUMIF(#REF!,A72,#REF!),\"\")","v":""},""]
[null,null,null,null,{"$f":"IF(A73<>\"\",SUMIF(#REF!,A73,#REF!),\"\")","v":""},""]
[null,null,null,null,{"$f":"IF(A74<>\"\",SUMIF(#REF!,A74,#REF!),\"\")","v":""},""]
[null,null,null,null,{"$f":"IF(A75<>\"\",SUMIF(#REF!,A75,#REF!),\"\")","v":""},""]
[null,null,null,null,{"$f":"IF(A76<>\"\",SUMIF(#REF!,A76,#REF!),\"\")","v":""},""]
[null,null,null,null,{"$f":"IF(A77<>\"\",SUMIF(#REF!,A77,#REF!),\"\")","v":""},""]
[null,null,null,null,{"$f":"IF(A78<>\"\",SUMIF(#REF!,A78,#REF!),\"\")","v":""},""]
[null,null,null,null,{"$f":"IF(A79<>\"\",SUMIF(#REF!,A79,#REF!),\"\")","v":""},""]
[null,null,null,null,{"$f":"IF(A80<>\"\",SUMIF(#REF!,A80,#REF!),\"\")","v":""},""]
[null,null,null,null,{"$f":"IF(A81<>\"\",SUMIF(#REF!,A81,#REF!),\"\")","v":""},""]
[null,null,null,null,{"$f":"IF(A82<>\"\",SUMIF(#REF!,A82,#REF!),\"\")","v":""},{"$f":"IF(A82<>\"\",C82+D82-E82,\"\")","v":""}]
[null,null,null,null,{"$f":"IF(A83<>\"\",SUMIF(#REF!,A83,#REF!),\"\")","v":""},""]
[null,null,null,null,{"$f":"IF(A84<>\"\",SUMIF(#REF!,A84,#REF!),\"\")","v":""},""]
[null,null,null,null,{"$f":"IF(A85<>\"\",SUMIF(#REF!,A85,#REF!),\"\")","v":""},""]
[null,null,null,null,{"$f":"IF(A86<>\"\",SUMIF(#REF!,A86,#REF!),\"\")","v":""},""]
[null,null,null,null,{"$f":"IF(A87<>\"\",SUMIF(#REF!,A87,#REF!),\"\")","v":""},""]
[null,null,null,null,{"$f":"IF(A88<>\"\",SUMIF(#REF!,A88,#REF!),\"\")","v":""},""]
[null,null,null,null,{"$f":"IF(A89<>\"\",SUMIF(#REF!,A89,#REF!),\"\")","v":""},""]
[null,null,null,null,{"$f":"IF(A90<>\"\",SUMIF(#REF!,A90,#REF!),\"\")","v":""},""]
[null,null,null,null,{"$f":"IF(A91<>\"\",SUMIF(#REF!,A91,#REF!),\"\")","v":""},""]
[null,null,null,null,{"$f":"IF(A92<>\"\",SUMIF(#REF!,A92,#REF!),\"\")","v":""},""]
[null,null,null,null,{"$f":"IF(A93<>\"\",SUMIF(#REF!,A93,#REF!),\"\")","v":""},""]
[null,null,null,null,{"$f":"IF(A94<>\"\",SUMIF(#REF!,A94,#REF!),\"\")","v":""},""]
[null,null,null,null,{"$f":"IF(A95<>\"\",SUMIF(#REF!,A95,#REF!),\"\")","v":""},""]
[null,null,null,null,{"$f":"IF(A96<>\"\",SUMIF(#REF!,A96,#REF!),\"\")","v":""},""]
[null,null,null,null,{"$f":"IF(A97<>\"\",SUMIF(#REF!,A97,#REF!),\"\")","v":""},""]
[null,null,null,null,{"$f":"IF(A98<>\"\",SUMIF(#REF!,A98,#REF!),\"\")","v":""},""]
[null,null,null,null,{"$f":"IF(A99<>\"\",SUMIF(#REF!,A99,#REF!),\"\")","v":""},""]
[null,null,null,null,{"$f":"IF(A100<>\"\",SUMIF(#REF!,A100,#REF!),\"\")","v":""},""]
[null,null,null,null,{"$f":"IF(A101<>\"\",SUMIF(#REF!,A101,#REF!),\"\")","v":""},""]
[null,null,null,null,{"$f":"IF(A102<>\"\",SUMIF(#REF!,A102,#REF!),\"\")","v":""},""]
[null,null,null,null,{"$f":"IF(A103<>\"\",SUMIF(#REF!,A103,#REF!),\"\")","v":""},""]
[null,null,null,null,{"$f":"IF(A104<>\"\",SUMIF(#REF!,A104,#REF!),\"\")","v":""},""]
[null,null,null,null,{"$f":"IF(A105<>\"\",SUMIF(#REF!,A105,#REF!),\"\")","v":""},""]
[null,null,null,null,{"$f":"IF(A106<>\"\",SUMIF(#REF!,A106,#REF!),\"\")","v":""},""]
[null,null,null,null,{"$f":"IF(A107<>\"\",SUMIF(#REF!,A107,#REF!),\"\")","v":""},""]
[null,null,null,null,{"$f":"IF(A108<>\"\",SUMIF(#REF!,A108,#REF!),\"\")","v":""},""]
[null,null,null,null,{"$f":"IF(A109<>\"\",SUMIF(#REF!,A109,#REF!),\"\")","v":""},""]
[null,null,null,null,{"$f":"IF(A110<>\"\",SUMIF(#REF!,A110,#REF!),\"\")","v":""},""]
[null,null,null,null,{"$f":"IF(A111<>\"\",SUMIF(#REF!,A111,#REF!),\"\")","v":""},""]
[null,null,null,null,{"$f":"IF(A112<>\"\",SUMIF(#REF!,A112,#REF!),\"\")","v":""},""]
[null,null,null,null,{"$f":"IF(A113<>\"\",SUMIF(#REF!,A113,#REF!),\"\")","v":""},""]
[null,null,null,null,{"$f":"IF(A114<>\"\",SUMIF(#REF!,A114,#REF!),\"\")","v":""},{"$f":"IF(A114<>\"\",C114+D114-E114,\"\")","v":""}]
[null,null,null,null,{"$f":"IF(A115<>\"\",SUMIF(#REF!,A115,#REF!),\"\")","v":""},""]
[null,null,null,null,{"$f":"IF(A116<>\"\",SUMIF(#REF!,A116,#REF!),\"\")","v":""},""]
[null,null,null,null,{"$f":"IF(A117<>\"\",SUMIF(#REF!,A117,#REF!),\"\")","v":""},""]
[null,null,null,null,{"$f":"IF(A118<>\"\",SUMIF(#REF!,A118,#REF!),\"\")","v":""},""]
[null,null,null,null,{"$f":"IF(A119<>\"\",SUMIF(#REF!,A119,#REF!),\"\")","v":""},""]
[null,null,null,null,{"$f":"IF(A120<>\"\",SUMIF(#REF!,A120,#REF!),\"\")","v":""},""]
[null,null,null,null,{"$f":"IF(A121<>\"\",SUMIF(#REF!,A121,#REF!),\"\")","v":""},""]
[null,null,null,null,{"$f":"IF(A122<>\"\",SUMIF(#REF!,A122,#REF!),\"\")","v":""},""]
[null,null,null,null,{"$f":"IF(A123<>\"\",SUMIF(#REF!,A123,#REF!),\"\")","v":""},""]
[null,null,null,null,{"$f":"IF(A124<>\"\",SUMIF(#REF!,A124,#REF!),\"\")","v":""},""]
[null,null,null,null,{"$f":"IF(A125<>\"\",SUMIF(#REF!,A125,#REF!),\"\")","v":""},""]
[null,null,null,null,{"$f":"IF(A126<>\"\",SUMIF(#REF!,A126,#REF!),\"\")","v":""},""]
[null,null,null,null,{"$f":"IF(A127<>\"\",SUMIF(#REF!,A127,#REF!),\"\")","v":""},""]
[null,null,null,null,{"$f":"IF(A128<>\"\",SUMIF(#REF!,A128,#REF!),\"\")","v":""},""]
[null,null,null,null,{"$f":"IF(A129<>\"\",SUMIF(#REF!,A129,#REF!),\"\")","v":""},""]
[null,null,null,null,{"$f":"IF(A130<>\"\",SUMIF(#REF!,A130,#REF!),\"\")","v":""},""]
[null,null,null,null,{"$f":"IF(A131<>\"\",SUMIF(#REF!,A131,#REF!),\"\")","v":""},""]
[null,null,null,null,{"$f":"IF(A132<>\"\",SUMIF(#REF!,A132,#REF!),\"\")","v":""},""]
[null,null,null,null,{"$f":"IF(A133<>\"\",SUMIF(#REF!,A133,#REF!),\"\")","v":""},""]
[null,null,null,null,{"$f":"IF(A134<>\"\",SUMIF(#REF!,A134,#REF!),\"\")","v":""},""]
[null,null,null,null,{"$f":"IF(A135<>\"\",SUMIF(#REF!,A135,#REF!),\"\")","v":""},""]
[null,null,null,null,{"$f":"IF(A136<>\"\",SUMIF(#REF!,A136,#REF!),\"\")","v":""},""]
[null,null,null,null,{"$f":"IF(A137<>\"\",SUMIF(#REF!,A137,#REF!),\"\")","v":""},""]
[null,null,null,null,{"$f":"IF(A138<>\"\",SUMIF(#REF!,A138,#REF!),\"\")","v":""},""]
[null,null,null,null,{"$f":"IF(A139<>\"\",SUMIF(#REF!,A139,#REF!),\"\")","v":""},""]
[null,null,null,null,{"$f":"IF(A140<>\"\",SUMIF(#REF!,A140,#REF!),\"\")","v":""},""]
[null,null,null,null,{"$f":"IF(A141<>\"\",SUMIF(#REF!,A141,#REF!),\"\")","v":""},""]
[null,null,null,null,{"$f":"IF(A142<>\"\",SUMIF(#REF!,A142,#REF!),\"\")","v":""},""]
[null,null,null,null,{"$f":"IF(A143<>\"\",SUMIF(#REF!,A143,#REF!),\"\")","v":""},""]
[null,null,null,null,{"$f":"IF(A144<>\"\",SUMIF(#REF!,A144,#REF!),\"\")","v":""},""]
[null,null,null,null,{"$f":"IF(A145<>\"\",SUMIF(#REF!,A145,#REF!),\"\")","v":""},""]

{"sheet":"CLIENTES","index":2,"n_rows":102,"n_cols":5,"rows_kept":102,"cut":false,"hidden":false,"merged":[[0,4,0,6],[1,4,7,6]]}
["Clientes","Quantidade adquirida",null,null,"Crie um botão que retorne ao painel"]
["Bruno Araujo",2]
["Beatriz Souza",42]
["Vitoria Souza",9]
["Ágatha Oliveira",21]
["Victor Fernandes",36]
["Emily Oliveira",19]
["Bruna Costa",38]
["Gabriel Ribeiro",40]
["Gustavo Goncalves",6]
["Felipe Almeida",36]
["José Melo",16]
["Manuela Barbosa",34]
["Raissa Azevedo",0]
["Vinícius Correia",4]
["Luís Fernandes",42]
["Sophia Rocha",20]
["Beatrice Ribeiro",25]
["Caio Correia",5]
["Samuel Oliveira",41]
["Kai Cavalcanti",13]
["Fernanda Rodrigues",17]
["Marcos Lima",32]
["Carolina Ferreira",42]
["Gabriela Goncalves",29]
["Tânia Fernandes",34]
["Emilly Gomes",49]
["Julieta Almeida",28]
["Cauã Sousa",30]
["Luiza Pinto",44]
["Kaua Cavalcanti",27]
["Paulo Barbosa",37]
["Brenda Fernandes",19]
["Kauê Fernandes",38]
["Emilly Goncalves",5]
["Diego Silva",42]
["Sarah Cardoso",6]
["Isabelle Correia",21]
["Fábio Cavalcanti",16]
["Arthur Santos",20]
["Vitória Araujo",10]
["Julia Costa",46]
["Camila Correia",0]
["Davi Araujo",8]
["Bruno Castro",23]
["Marcos Pereira",13]
["Yasmin Pinto",36]
["Melissa Correia",17]
["Luís Almeida",35]
["Marina Melo",33]
["Julieta Cardoso",11]
["Vinícius Silva",49]
["Beatrice Barbosa",5]
["Beatrice Melo",20]
["Luan Araujo",3]
["Clara Costa",20]
["Bianca Oliveira",44]
["Larissa Ribeiro",7]
["Anna Oliveira",33]
["Leonardo Gomes",49]
["Isabella Martins",4]
["Renan Ferreira",35]
["Douglas Alves",22]
["Kauã Correia",22]
["Livia Fernandes",22]
["Carla Goncalves",16]
["Amanda Araujo",27]
["Nicolas Goncalves",27]
["Vitória Cunha",18]
["André Correia",42]
["Julia Rocha",35]
["Kai Silva",27]
["Luiz Lima",44]
["Luís Ribeiro",37]
["Matilde Ferreira",41]
["André Goncalves",12]
["Isabella Oliveira",48]
["Vitória Carvalho",8]
["Marina Pereira",45]
["Rodrigo Ribeiro",38]
["André Alves",32]
["Livia Araujo",36]
["Júlia Costa",1]
["Emilly Castro",34]
["Thiago Correia",48]
["Gabrielle Goncalves",40]
["Beatrice Lima",27]
["Diego Cunha",4]
["Ana Cavalcanti",2]
["Isabelle Carvalho",8]
["Laura Santos",23]
["Kauan Rocha",32]
["Brenda Castro",48]
["Estevan Fernandes",7]
["Estevan Carvalho",36]
["Sophia Fernandes",50]
["Melissa Souza",6]
["Vitoria Dias",27]
["Alex Almeida",44]
["Luana Barbosa",49]
["Samuel Ribeiro",12]
["Diego Melo",43]

{"sheet":"Exemplo 11.2","index":3,"n_rows":4,"n_cols":2,"rows_kept":4,"cut":false,"hidden":false,"merged":[]}
["Nota",{"$f":"0.2*B2+0.3*B3+0.5*B4","v":0}]
["Trabalho em grupo"]
["Relatório"]
["Prova"]

{"sheet":"Exemplo 11.3","index":4,"n_rows":100,"n_cols":11,"rows_kept":100,"cut":false,"hidden":false,"merged":[[0,8,0,10],[4,8,4,10]]}
["Curso","Matrícula","Nota 1","Nota 2","Frequência","Nota final","Situação",null,"Situação quanto à nota"]
["CAT",19869,3.2,4.7,0.95,null,null,null,"Aprovado(a)",">=",6]
["CAT",20797,3.1,1.2,0.66,null,null,null,"Reprovado(a)","<",{"$f":"K2","v":6}]
["CAT",23069,2.5,9.6999999999999993,0.47]
["CAT",23783,2.8,0.6,0.63,null,null,null,"Situação quanto à frequência "]
["CAT",24277,6.8,2.1,0.2,null,null,null,"Aprovado(a)",">=",0.75]
["CAT",26318,4.5,2.2999999999999998,0.45,null,null,null,"Reprovado(a)","<",{"$f":"K6","v":0.75}]
["CAT",29399,4.4000000000000004,6.6,0.55000000000000004]
["CAT",29545,3.5,1.5,0.28999999999999998]
["CAT",29700,6.1,1.7,0.77]
["CAT",33620,7.2,2.2000000000000002,0.08]
["CAT",33809,8,0.3,0.84]
["CAT",34310,1.8,9.8000000000000007,0.96]
["EAM",19601,7.7,2.2999999999999998,0.44]
["EAM",20506,6.3,4.9000000000000004,0.83]
["EAM",21988,1.4,2.8,0.44]
["EAM",26176,0.7,1.4,0.93]
["EAM",28477,3.6,5,0.33]
["EAM",28576,9.4,8.4,0.69]
["EAM",30347,3.9,4,0.76]
["EAM",31766,9.1999999999999993,8.9,0.01]
["EAM",33345,6.3,3.5,0.13]
["EAM",34452,7.9,10,0.46]
["ECI",19238,3.6,0,0.48]
["ECI",19464,5.8,6.4,0.71]
["ECI",24303,9.8000000000000007,9,0]
["ECI",28127,4,7.4,0.33]
["ECI",29055,4.3,5.9,0.53]
["ECI",31551,3.1,4,0.42]
["ECI",31655,4.0999999999999996,6.8,0.54]
["ECI",31690,5.8,2.2999999999999998,0.4]
["ECI",31864,3.2,9.5,0.01]
["ECI",33699,9.8000000000000007,3.9,0.8]
["ECI",35472,5.2,2.2999999999999998,0.46]
["EEL",19021,2.1,0.7,0.89]
["EEL",19447,8.3000000000000007,8.1,0.89]
["EEL",24365,9.3000000000000007,2.1,0.41]
["EEL",24737,0.9,8.1,0.61]
["EEL",26783,6.6,5.5,7.0000000000000007E-2]
["EEL",26917,3,2.2000000000000002,0.82]
["EEL",27673,3.3,1.3,0.45]
["EEL",28134,4.0999999999999996,2.7,0.23]
["EEL",31018,6.6,4,0.02]
["EEL",31108,2.2999999999999998,7.3,0.88]
["EEL",31796,3.6,0.8,0.51]
["EEL",33148,7.4,10,0.61]
["EEL",35981,8.1999999999999993,7.7,0.23]
["EME",18462,0.6,1.1000000000000001,0.9]
["EME",18644,2.8,8,0.43]
["EME",19130,0.6,1.4,0.37]
["EME",20686,4.8,6,0.27]
["EME",21146,9.1999999999999993,6.3,0.88]
["EME",22399,9,6.7,0.74]
["EME",23597,2.9,7.9,0.75]
["EME",23611,6,1.8,0.26]
["EME",24371,8.1999999999999993,2,0.93]
["EME",25136,4.9000000000000004,4.5,0.03]
["EME",28125,3.1,7.6,0.17]
["EME",28389,7.7,0.7,0.24]
["EME",31040,4.9000000000000004,4,0.37]
["EME",31343,2,3.8,0.74]
["EME",34673,6,2.4,0.39]
["EME",35382,2,8.4,0.71]
["EME",35406,2,0.2,0.28999999999999998]
["EPR",26614,5.8,0.3,0.57999999999999996]
["EPR",28115,8.6999999999999993,7.4,0.28000000000000003]
["EPR",29631,2.8,9.9,0.23]
["EPR",30198,0.7,7.1,0.13]
["EPR",31972,7.5,2.1,0.03]
["EPR",32111,5.7,1.5,0.08]
["EPR",33272,0,2.9,0.28999999999999998]
["EPR",33896,0,9.6999999999999993,0.24]
["QUI",18638,4.9000000000000004,5,0.49]
["QUI",19539,9.6999999999999993,5.0999999999999996,0.48]
["QUI",20831,1.8,8,0.38]
["QUI",23535,10,1,0.42]
["QUI",23719,2.2000000000000002,3.7,7.0000000000000007E-2]
["QUI",26755,4.3,3.3,0.62]
["QUI",27828,2,5.9,0.81]
["QUI",28054,0.5,0.8,0.83]
["QUI",34050,4.3,6.9,0.41]
["SI",20864,2.6,6.8,0.43]
["SI",21173,10,2.2000000000000002,0.92]
["SI",21262,7.7,3.2,0.54]
["SI",21308,7.5,8.6,0.28999999999999998]
["SI",21564,1.8,2.4,0.11]
["SI",21573,5.6,3.4,0.1]
["SI",25186,4,5.6,0.89]
["SI",25929,4.5999999999999996,4.8,0.46]
["SI",26794,2.2999999999999998,7.3,0.31]
["SI",26879,9.9,8.6,0.42]
["SI",28126,8.1999999999999993,4.7,0.02]
["SI",30527,5.5,4.0999999999999996,0.66]
["SI",31989,7.9,6.6,0.91]
["SI",32240,7.6,9,0.09]
["SI",32352,9.6999999999999993,4.5999999999999996,0.66]
["SI",33130,1.4,7,0.28999999999999998]
["SI",33155,8,5,0.08]
["SI",34503,7.4,7,0.97]
["SI",34755,9.3000000000000007,0.7,0.72]

{"sheet":"Exemplo 11.4","index":5,"n_rows":22,"n_cols":13,"rows_kept":22,"cut":false,"hidden":false,"merged":[[0,0,0,3],[0,6,0,8],[4,6,4,9]]}
["Estoque",null,null,null,null,null,"Descrição"]
["Código do Produto","Nome","Tipo de Periférico","Quantidade",null,null,"Código do Produto","Nome","Tipo de Periférico"]
[42,"Nok G309","Mouse",16]
[81,"Nok Free","Headset",46]
[54,"Nok Lunar","Monitor",4,null,null,"Resultado",null,null,null,null,null,"Mouse"]
[4,"Nok Y504","Mouse",1,null,null,"Código do Produto","Nome","Tipo de Periférico","Quantidade",null,null,"Headset"]
[9,"Nok G503","Mouse",50,null,null,null,null,null,null,null,null,"Monitor"]
[99,"Nok Clot","Monitor",32,null,null,null,null,null,null,null,null,"Teclado"]
[36,"Nok Span","Teclado",19]
[1,"Nok Fit","Mouse",48]
[80,"Nok Future","Teclado",32]
[69,"Nok Star","Headset",29]
[43,"Nok Long","Teclado",10]
[95,"Nok Crazy","Headset",17]
[16,"Nok Still","Teclado",23]
[41,"Nok Hole","Monitor",46]
[95,"Nok Stile","Headset",6]
[26,"Nok Lance","Headset",49]
[64,"Nok Eazy","Monitor",4]
[84,"Nok Yezzy","Mouse",22]
[85,"Nok Epic","Monitor",30]
[59,"Nok Float","Headset",1]

{"sheet":"Problema 11.1","index":6,"n_rows":14,"n_cols":5,"rows_kept":14,"cut":false,"hidden":false,"merged":[[8,0,8,1],[0,3,0,4]]}
["Pontos ","Prêmio",null,"Quantidade de compras de roberto"]
[200,"Bola",null,null,"Cozinha"]
[500,"Bolsa de praia",null,null,"Limpeza"]
[700,"Aparelho de som",null,null,"Decoração"]
[1000,"Panela Elétrica",null,null,"Brinquedos"]
[2500,"Conjunto de panelas",null,null,"Eletrônicos"]
[5000,"Celular"]
[null,null,null,"Total:",{"$f":"B10*D2+B11*D3+B12*D4+B13*D5+B14*D6","v":0}]
["Distribuição de Pontos"]
["Cozinha",5]
["Limpeza",5]
["Decoração",15]
["Brinquedos",25]
["Eletrônicos",40]